BEGIN:VCALENDAR
VERSION:2.0
PRODID:-//OmniMagnetCalendar//EN
BEGIN:VEVENT
DTSTAMP:20190625T195740Z
STATUS:CONFIRMED
UID:dallasbusinessclub.com962
DTSTART:20260923T233000Z
DTEND:20260924T020000Z
LOCATION:
SUMMARY:Strategy Under Pressure:  What Business Leaders Can Learn from Modern Conflict
DESCRIPTION:Dr. Robert Pape on reading market-relevant signals, understanding unintended consequences and navigating reputational risk, misinformation and employee sentiment.
BEGIN:VALARM
TRIGGER:-PT15M
ACTION:DISPLAY
END:VALARM
TRANSP:OPAQUE
END:VEVENT
END:VCALENDAR
