BEGIN:VCALENDAR
VERSION:2.0
PRODID:-//OmniMagnetCalendar//EN
BEGIN:VEVENT
DTSTAMP:20190625T195740Z
STATUS:CONFIRMED
UID:dallasbusinessclub.com832
DTSTART:20221109T170000Z
DTEND:20221109T190000Z
LOCATION:At IERG Website,
SUMMARY:International Executive Resource Group Invites the DBC to attend | Wednesday, November 11, 2022
DESCRIPTION:IERG "Increase Earnings by Improving Your Communication Skills"
BEGIN:VALARM
TRIGGER:-PT15M
ACTION:DISPLAY
END:VALARM
TRANSP:OPAQUE
END:VEVENT
END:VCALENDAR
