BEGIN:VCALENDAR
VERSION:2.0
PRODID:-//OmniMagnetCalendar//EN
BEGIN:VEVENT
DTSTAMP:20190625T195740Z
STATUS:CONFIRMED
UID:dallasbusinessclub.com716
DTSTART:20190522T230000Z
DTEND:20190523T010000Z
LOCATION:Vidorra, 2642 Main Street, Dallas, TX, 75226,
SUMMARY:DBC May Happy Hour at Vidorra in Deep Ellum
DESCRIPTION:The Dallas Business Club invites you to the May Professional Networking Happy Hour hosted by Thunderbird and Indiana Kelley.
BEGIN:VALARM
TRIGGER:-PT15M
ACTION:DISPLAY
END:VALARM
TRANSP:OPAQUE
END:VEVENT
END:VCALENDAR
