BEGIN:VCALENDAR
VERSION:2.0
PRODID:-//OmniMagnetCalendar//EN
BEGIN:VEVENT
DTSTAMP:20190625T195740Z
STATUS:CONFIRMED
UID:dallasbusinessclub.com683
DTSTART:20180914T210000Z
DTEND:20180914T210000Z
LOCATION:
SUMMARY:WSJ's Take on the DBC's Federal Reserve Talk: "Fed's Kaplan Supports Rate Increases Toward 'Neutral'
DESCRIPTION:The Wall Street Journal was front and center capturing the heart of Robert Kaplan's message!
BEGIN:VALARM
TRIGGER:-PT15M
ACTION:DISPLAY
END:VALARM
TRANSP:OPAQUE
END:VEVENT
END:VCALENDAR
