BEGIN:VCALENDAR
VERSION:2.0
PRODID:-//OmniMagnetCalendar//EN
BEGIN:VEVENT
DTSTAMP:20190625T195740Z
STATUS:CONFIRMED
UID:dallasbusinessclub.com681
DTSTART:20181030T203000Z
DTEND:20181031T020000Z
LOCATION:Fossil Group, 901 S Central Expy, Richardson, TX, 75081,
SUMMARY:MIT Data Science and Machine Learning Seminar
DESCRIPTION:Please join the MIT Club of Dallas and Fort Worth as they host leading local speakers on Data Science and Machine Learning.
BEGIN:VALARM
TRIGGER:-PT15M
ACTION:DISPLAY
END:VALARM
TRANSP:OPAQUE
END:VEVENT
END:VCALENDAR
